BEGIN:VCALENDAR
TZID:America/Chicago
BEGIN:VEVENT
CLASS:PUBLIC
CREATED:20260424T085159
DESCRIPTION:How much time do spend in and around vehicles?  Do you use a vehicle for  work?  The odds are high that if you encounter a situation, you may be in or around vehicles.  This course teaches how to deploy your weapon and execute various techniques and tactics from inside, outside and around vehicles.  Shooting positions, shooting while moving, proper use of cover, hard fighting points ore just a few of the topics covered.  You will train in and around functioning vehicles making this class very realistic.  Vehicle Tactics is a must for your training requirements!  Perfect for Law Enforcement, Security Operators or trained LTC Civilians.\n\nTac Pistol 1p is a requirement.  You will also have the option of utilizing your tactical rifle.  If you desire to do so, Tac Rile 1p is a requirement.  We do recognize similar courses from other academies, contact us for more details.\n<ul>\n 	<li>Duty or EDC Handgun/Rifle if desired</li>\n 	<li>Carry Gear/Holsters/Mag Pouches/Sling/Suitable for Vehicle Use</li>\n 	<li>250 Rounds, divided equally between weapons</li>\n 	<li>Eye and Ear Protection</li>\n 	<li>Food/Water for full range day</li>\n 	<li>Class is 8 hours in length, start time 10:00</li>\n 	<li>Limited to 8 students only!</li>\n</ul>\nOnly $225.00, Certificate upon successful completion!
DTEND:20260530T170000Z
DTSTAMP:20260424T085159
DTSTART:20260530T100000
LAST-MODIFIED:20091109T101015
LOCATION:Strategic Weapons Academy of Texas HQ, 1045 Cutoff Rd, , Texas, 75119
SUMMARY;LANGUAGE=en-us:Vehicle Tactics and Dynamic Situations - May 30th, 2026
BEGIN:VALARM
TRIGGER:-PT1440M
ACTION:DISPLAY
DESCRIPTION:Reminder
END:VALARM
END:VEVENT
END:VCALENDAR
