BEGIN:VCALENDAR
TZID:America/Chicago
BEGIN:VEVENT
CLASS:PUBLIC
CREATED:20260424T084242
DESCRIPTION:<strong>INTERIOR MOVEMENT AND ROOM ENTRY TACTICS</strong>\n\n<span style="color: #ff0000;"><strong><em>This is a live fire shoot house training event conducted in our new ballistic house!</em></strong></span>\n\n<strong>Instructor: TIM BULOT</strong>\n\nThis class is open to previous pistol/rifle (or pistol only) students of <em>Strategic Weapons Academy</em>.  It is directed toward individuals or groups desiring to learn tactical movement and house clearing techniques, concerned about active aggressive situations at work, home, church or any indoor environment.  You will be trained in our 360-degree ballistic shoot house under the guidance of <em>Tim Bulot</em>, a Senior Close Combat Instructor, Trainer and Adviser to the Elite Colombian Hostage Rescue Units and current SWAT Team Leader.\n\nWe will be working in individual and 2 person teams.  Bring a partner to take full advantage of this training opportunity.  Morning session will cover range drills with pistol and rifle, unique to interior movement, 2 person drills and tactical communication.  Afternoon session we transition to the shoothouse!  You have the option, <strong><em>pistol rifle or pistol only</em></strong>, your call!\n\n[embed]https://youtu.be/JE0Mo1HpIO0[/embed]\n\n<strong>What will I learn?</strong>\n<ul>\n 	<li>Close combat range drills</li>\n 	<li>Tactical Communications</li>\n 	<li>How to negotiate doors</li>\n 	<li>How to negotiate corners and barricades</li>\n 	<li>How to properly clear a room</li>\n 	<li>How to clear a multi room hallway</li>\n 	<li>Movement, one and two persons</li>\n 	<li>Covert and Dynamic Methods</li>\n 	<li>How to move and shoot inside of a structure</li>\n 	<li>and Much More....</li>\n</ul>\n<strong>What do I need to Bring:</strong>\n<ul>\n 	<li>Pistol and 150 Rds (Option 300 rds and train pistol only)</li>\n 	<li> Rifle and 150 Rds</li>\n 	<li>Tactical Gear, Holster, Belt, Vest or Plate Carrier</li>\n 	<li>Range Gear</li>\n 	<li>Extra Magazines</li>\n 	<li>Eye and Ear Protection</li>\n 	<li>Food/Water/Sunscreen/Bug Spray for long range day</li>\n</ul>\nCost : $235.oo\n\n<em>Max 8  students!  10 am to 5 pm, See you there at 9:45 am </em>\n\n<span style="color: #ff0000;"><strong>EXPERIENCING ISSUES ENROLLING IN A COURSE?  SEND US AN EMAIL AT: Info@WeaponsAcademy.Com</strong></span>
DTEND:20260425T170000Z
DTSTAMP:20260424T084242
DTSTART:20260425T100000
LAST-MODIFIED:20091109T101015
LOCATION:Strategic Weapons Academy of Texas HQ, 1045 Cutoff Rd, , Texas, 75119
SUMMARY;LANGUAGE=en-us:Interior Movement and Room Entry Tactics Course, April 25th, 2026
BEGIN:VALARM
TRIGGER:-PT1440M
ACTION:DISPLAY
DESCRIPTION:Reminder
END:VALARM
END:VEVENT
END:VCALENDAR
